{
 "currentVersion": 10.81,
 "serviceDescription": "TopoSvalbard 3D",
 "mapName": "Layers",
 "description": "",
 "copyrightText": "© Norsk Polarinstitutt. Bruksvilkår<\/a>",
 "supportsDynamicLayers": false,
 "layers": [
  {
   "id": 0,
   "name": "TopoSvalbard_3DW.tif",
   "parentLayerId": -1,
   "defaultVisibility": true,
   "subLayerIds": null,
   "minScale": 0,
   "maxScale": 0,
   "type": "Raster Layer"
  }
 ],
 "tables": [],
 "spatialReference": {
  "wkid": 4326,
  "latestWkid": 4326
 },
 "singleFusedMapCache": true,
 "tileInfo": {
  "rows": 256,
  "cols": 256,
  "dpi": 96,
  "format": "MIXED",
  "compressionQuality": 90,
  "origin": {
   "x": -400,
   "y": 790.5515625
  },
  "spatialReference": {
   "wkid": 4326,
   "latestWkid": 4326
  },
  "lods": [
   {
    "level": 0,
    "resolution": 1.3333332969709393,
    "scale": 560350976
   },
   {
    "level": 1,
    "resolution": 0.6666666484854696,
    "scale": 280175488
   },
   {
    "level": 2,
    "resolution": 0.3333333242427348,
    "scale": 140087744
   },
   {
    "level": 3,
    "resolution": 0.1666666621213674,
    "scale": 70043872
   },
   {
    "level": 4,
    "resolution": 0.0833333310606837,
    "scale": 35021936
   },
   {
    "level": 5,
    "resolution": 0.04166666553034185,
    "scale": 17510968
   },
   {
    "level": 6,
    "resolution": 0.020833332765170926,
    "scale": 8755484
   },
   {
    "level": 7,
    "resolution": 0.010416666382585463,
    "scale": 4377742
   },
   {
    "level": 8,
    "resolution": 0.0052083331912927315,
    "scale": 2188871
   }
  ]
 },
 "initialExtent": {
  "xmin": 71.51034257322164,
  "ymin": 66.04527109483956,
  "xmax": 681.3959074267782,
  "ymax": 290.1320127266388,
  "spatialReference": {
   "wkid": 4326,
   "latestWkid": 4326
  }
 },
 "fullExtent": {
  "xmin": 0,
  "ymin": 0,
  "xmax": 752.90625,
  "ymax": 180.60416666666666,
  "spatialReference": {
   "wkid": 4326,
   "latestWkid": 4326
  }
 },
 "minScale": 560350976,
 "maxScale": 2188871,
 "units": "esriDecimalDegrees",
 "supportedImageFormatTypes": "PNG32,PNG24,PNG,JPG,DIB,TIFF,EMF,PS,PDF,GIF,SVG,SVGZ,BMP",
 "documentInfo": {
  "Title": "",
  "Author": "",
  "Comments": "TopoSvalbard 3D",
  "Subject": "TopoSvalbard 3D",
  "Category": "",
  "AntialiasingMode": "None",
  "TextAntialiasingMode": "None",
  "Keywords": "Svalbard"
 },
 "capabilities": "Map",
 "supportedQueryFormats": "JSON, geoJSON",
 "exportTilesAllowed": false,
 "referenceScale": 0,
 "datumTransformations": [
  {
   "geoTransforms": [
    {
     "wkid": 108001,
     "latestWkid": 1241,
     "transformForward": true,
     "name": "NAD_1927_To_NAD_1983_NADCON"
    }
   ]
  },
  {
   "geoTransforms": [
    {
     "wkid": 108001,
     "latestWkid": 1241,
     "transformForward": false,
     "name": "NAD_1927_To_NAD_1983_NADCON"
    }
   ]
  }
 ],
 "supportsDatumTransformation": true,
 "maxRecordCount": 1000,
 "maxImageHeight": 4096,
 "maxImageWidth": 4096,
 "supportedExtensions": ""
}
