{
 "currentVersion": 10.81,
 "serviceDescription": "Satellittbildemosaikk av Copernicus Sentinel-data, utarbeidet av Norsk Polarinstitutt. Lisensiert under CC BY 4.0. / Satellite imagery mosaic of Copernicus Sentinel data, prepared by the Norwegian Polar Institute. Licensed under CC BY 4.0",
 "mapName": "NP_Satellitt_Svalbard_WMTS_25833",
 "description": "",
 "copyrightText": "Norsk Polarinstitutt / Norwegian Polar Institute. Copernicus Sentinel data",
 "supportsDynamicLayers": false,
 "layers": [
  {
   "id": 0,
   "name": "Svalbard_Copernicus_Sentinel.tif",
   "parentLayerId": -1,
   "defaultVisibility": true,
   "subLayerIds": null,
   "minScale": 0,
   "maxScale": 0,
   "type": "Raster Layer"
  }
 ],
 "tables": [],
 "spatialReference": {
  "wkid": 25833,
  "latestWkid": 25833
 },
 "singleFusedMapCache": true,
 "tileInfo": {
  "rows": 256,
  "cols": 256,
  "dpi": 96,
  "format": "MIXED",
  "compressionQuality": 90,
  "origin": {
   "x": -5120900,
   "y": 9998100
  },
  "spatialReference": {
   "wkid": 25833,
   "latestWkid": 25833
  },
  "lods": [
   {
    "level": 0,
    "resolution": 21674.7100160867,
    "scale": 81920000
   },
   {
    "level": 1,
    "resolution": 10837.35500804335,
    "scale": 40960000
   },
   {
    "level": 2,
    "resolution": 5418.677504021675,
    "scale": 20480000
   },
   {
    "level": 3,
    "resolution": 2709.3387520108377,
    "scale": 10240000
   },
   {
    "level": 4,
    "resolution": 1354.6693760054188,
    "scale": 5120000
   },
   {
    "level": 5,
    "resolution": 677.3346880027094,
    "scale": 2560000
   },
   {
    "level": 6,
    "resolution": 338.6673440013547,
    "scale": 1280000
   },
   {
    "level": 7,
    "resolution": 169.33367200067735,
    "scale": 640000
   },
   {
    "level": 8,
    "resolution": 84.66683600033868,
    "scale": 320000
   },
   {
    "level": 9,
    "resolution": 42.33341800016934,
    "scale": 160000
   },
   {
    "level": 10,
    "resolution": 21.16670900008467,
    "scale": 80000
   },
   {
    "level": 11,
    "resolution": 10.583354500042335,
    "scale": 40000
   },
   {
    "level": 12,
    "resolution": 5.291677250021167,
    "scale": 20000
   },
   {
    "level": 13,
    "resolution": 2.6458386250105836,
    "scale": 10000
   },
   {
    "level": 14,
    "resolution": 1.3229193125052918,
    "scale": 5000
   },
   {
    "level": 15,
    "resolution": 0.6614596562526459,
    "scale": 2500
   },
   {
    "level": 16,
    "resolution": 0.33072982812632296,
    "scale": 1250
   },
   {
    "level": 17,
    "resolution": 0.16536491406316148,
    "scale": 625
   }
  ]
 },
 "initialExtent": {
  "xmin": 279947.006211,
  "ymin": 8676313.832821447,
  "xmax": 978448.4032137941,
  "ymax": 8932960.179447476,
  "spatialReference": {
   "wkid": 25833,
   "latestWkid": 25833
  }
 },
 "fullExtent": {
  "xmin": 369980,
  "ymin": 8221310,
  "xmax": 878240,
  "ymax": 9010720,
  "spatialReference": {
   "wkid": 25833,
   "latestWkid": 25833
  }
 },
 "minScale": 81920000,
 "maxScale": 2500,
 "units": "esriMeters",
 "supportedImageFormatTypes": "PNG32,PNG24,PNG,JPG,DIB,TIFF,EMF,PS,PDF,GIF,SVG,SVGZ,BMP",
 "documentInfo": {
  "Title": "NP_Satellitt_Svalbard_WMTS_25833",
  "Author": "",
  "Comments": "Satellittbildemosaikk av Copernicus Sentinel-data, utarbeidet av Norsk Polarinstitutt. Lisensiert under CC BY 4.0. / Satellite imagery mosaic of Copernicus Sentinel data, prepared by the Norwegian Polar Institute. Licensed under CC BY 4.0",
  "Subject": "Mosaikk av / mosaic of Copernicus Sentinel data.",
  "Category": "",
  "AntialiasingMode": "None",
  "TextAntialiasingMode": "None",
  "Keywords": "Svalbard, satellite image, Copernicus Sentinel data"
 },
 "capabilities": "Map",
 "supportedQueryFormats": "JSON, geoJSON",
 "exportTilesAllowed": false,
 "referenceScale": 0,
 "supportsDatumTransformation": true,
 "maxRecordCount": 1000,
 "maxImageHeight": 4096,
 "maxImageWidth": 4096,
 "supportedExtensions": "",
 "resampling": false
}
