{
 "currentVersion": 10.81,
 "serviceDescription": "Satellittbildemosaikk av Copernicus Sentinel-data, utarbeidet av Norsk Polarinstitutt. Lisensiert under CC BY 4.0. For en mindre forvrengende kartprojeksjon, bruk NP_Satellitt_Svalbard_WMTS_25833. / Satellite imagery mosaic of Copernicus Sentinel data, prepared by the Norwegian Polar Institute. Licensed under CC BY 4.0. For a less distorting map projection, use NP_Satellitt_Svalbard_WMTS_25833.",
 "mapName": "NP_Satellitt_Svalbard_WMTS_3857",
 "description": "",
 "copyrightText": "Norsk Polarinstitutt. Copernicus Sentinel data",
 "supportsDynamicLayers": false,
 "layers": [
  {
   "id": 0,
   "name": "Svalbard_Copernicus_Sentinel_3857.tif",
   "parentLayerId": -1,
   "defaultVisibility": true,
   "subLayerIds": null,
   "minScale": 0,
   "maxScale": 0,
   "type": "Raster Layer"
  }
 ],
 "tables": [],
 "spatialReference": {
  "wkid": 102100,
  "latestWkid": 3857
 },
 "singleFusedMapCache": true,
 "tileInfo": {
  "rows": 256,
  "cols": 256,
  "dpi": 96,
  "format": "MIXED",
  "compressionQuality": 90,
  "origin": {
   "x": -2.0037508342787E7,
   "y": 2.0037508342787E7
  },
  "spatialReference": {
   "wkid": 102100,
   "latestWkid": 3857
  },
  "lods": [
   {
    "level": 0,
    "resolution": 156543.03392800014,
    "scale": 5.91657527591555E8
   },
   {
    "level": 1,
    "resolution": 78271.51696399994,
    "scale": 2.95828763795777E8
   },
   {
    "level": 2,
    "resolution": 39135.75848200009,
    "scale": 1.47914381897889E8
   },
   {
    "level": 3,
    "resolution": 19567.87924099992,
    "scale": 7.3957190948944E7
   },
   {
    "level": 4,
    "resolution": 9783.93962049996,
    "scale": 3.6978595474472E7
   },
   {
    "level": 5,
    "resolution": 4891.96981024998,
    "scale": 1.8489297737236E7
   },
   {
    "level": 6,
    "resolution": 2445.98490512499,
    "scale": 9244648.868618
   },
   {
    "level": 7,
    "resolution": 1222.992452562495,
    "scale": 4622324.434309
   },
   {
    "level": 8,
    "resolution": 611.4962262813797,
    "scale": 2311162.217155
   },
   {
    "level": 9,
    "resolution": 305.74811314055756,
    "scale": 1155581.108577
   },
   {
    "level": 10,
    "resolution": 152.87405657041106,
    "scale": 577790.554289
   },
   {
    "level": 11,
    "resolution": 76.43702828507324,
    "scale": 288895.277144
   },
   {
    "level": 12,
    "resolution": 38.21851414253662,
    "scale": 144447.638572
   },
   {
    "level": 13,
    "resolution": 19.10925707126831,
    "scale": 72223.819286
   },
   {
    "level": 14,
    "resolution": 9.554628535634155,
    "scale": 36111.909643
   },
   {
    "level": 15,
    "resolution": 4.77731426794937,
    "scale": 18055.954822
   },
   {
    "level": 16,
    "resolution": 2.388657133974685,
    "scale": 9027.977411
   },
   {
    "level": 17,
    "resolution": 1.1943285668550503,
    "scale": 4513.988705
   }
  ]
 },
 "initialExtent": {
  "xmin": 651871.9155804401,
  "ymin": 1.4227231085449288E7,
  "xmax": 4192519.1124676,
  "ymax": 1.552815069945707E7,
  "spatialReference": {
   "wkid": 102100,
   "latestWkid": 3857
  }
 },
 "fullExtent": {
  "xmin": 831255.51402402,
  "ymin": 1.2409662280780027E7,
  "xmax": 4013135.51402402,
  "ymax": 1.6326442280780027E7,
  "spatialReference": {
   "wkid": 102100,
   "latestWkid": 3857
  }
 },
 "minScale": 5.91657527591555E8,
 "maxScale": 18055.954822,
 "units": "esriMeters",
 "supportedImageFormatTypes": "PNG32,PNG24,PNG,JPG,DIB,TIFF,EMF,PS,PDF,GIF,SVG,SVGZ,BMP",
 "documentInfo": {
  "Title": "NP_Satellitt_Svalbard_WMTS_3857",
  "Author": "",
  "Comments": "Satellittbildemosaikk av Copernicus Sentinel-data, utarbeidet av Norsk Polarinstitutt. Lisensiert under CC BY 4.0. For en mindre forvrengende kartprojeksjon, bruk NP_Satellitt_Svalbard_WMTS_25833. / Satellite imagery mosaic of Copernicus Sentinel data, prepared by the Norwegian Polar Institute. Licensed under CC BY 4.0. For a less distorting map projection, use NP_Satellitt_Svalbard_WMTS_25833.",
  "Subject": "Mosaikk av / mosaic of Copernicus Sentinel data.",
  "Category": "",
  "AntialiasingMode": "None",
  "TextAntialiasingMode": "None",
  "Keywords": "Svalbard,satellite image,Copernicus Sentinel data"
 },
 "capabilities": "Map",
 "supportedQueryFormats": "JSON, geoJSON",
 "exportTilesAllowed": false,
 "referenceScale": 0,
 "supportsDatumTransformation": true,
 "maxRecordCount": 1000,
 "maxImageHeight": 4096,
 "maxImageWidth": 4096,
 "supportedExtensions": "",
 "resampling": false
}
