{
 "currentVersion": 10.81,
 "serviceDescription": "Terrain visualisation of Svalbard land and ocean, hillshade version. Land visualisation based on Norwegian Polar Institute (NPI) data. Depth visualisation based on publicly available bathymetry data from the Norwegian Mapping Authority (NMA) and the International Bathymetric Chart of the Arctic Ocean (IBCAO), version 4.",
 "mapName": "NP_TerrengFjellskygge_Svalbard_WMTS_25833",
 "description": "Terrain visualisation of Svalbard land and ocean, hillshade version. Land visualisation based on Norwegian Polar Institute (NPI) data. Depth visualisation based on publicly available bathymetry data from the Norwegian Mapping Authority (NMA) and the International Bathymetric Chart of the Arctic Ocean (IBCAO), version 4.",
 "copyrightText": "Norwegian Polar Institute. Depth visualisation based on Norwegian Mapping Authority and IBCAO v4 data",
 "supportsDynamicLayers": false,
 "layers": [
  {
   "id": 0,
   "name": "BakgrunnslagKanter",
   "parentLayerId": -1,
   "defaultVisibility": true,
   "subLayerIds": null,
   "minScale": 0,
   "maxScale": 0,
   "type": "Feature Layer",
   "geometryType": "esriGeometryPolygon"
  },
  {
   "id": 1,
   "name": "IBCAO_Dekningsomr",
   "parentLayerId": -1,
   "defaultVisibility": true,
   "subLayerIds": null,
   "minScale": 40000,
   "maxScale": 0,
   "type": "Feature Layer",
   "geometryType": "esriGeometryPolygon"
  },
  {
   "id": 2,
   "name": "SK_IBCAO_DTM_hs.tif",
   "parentLayerId": -1,
   "defaultVisibility": true,
   "subLayerIds": null,
   "minScale": 0,
   "maxScale": 0,
   "type": "Raster Layer"
  },
  {
   "id": 3,
   "name": "SK_IBCAO_DTM_hs.tif",
   "parentLayerId": -1,
   "defaultVisibility": true,
   "subLayerIds": null,
   "minScale": 0,
   "maxScale": 0,
   "type": "Raster Layer"
  },
  {
   "id": 4,
   "name": "SK_IBCAO_DTM_hs.tif",
   "parentLayerId": -1,
   "defaultVisibility": true,
   "subLayerIds": null,
   "minScale": 0,
   "maxScale": 0,
   "type": "Raster Layer"
  },
  {
   "id": 5,
   "name": "SK_IBCAO_DTM.tif",
   "parentLayerId": -1,
   "defaultVisibility": true,
   "subLayerIds": null,
   "minScale": 0,
   "maxScale": 0,
   "type": "Raster Layer"
  },
  {
   "id": 6,
   "name": "S100_Hav_f",
   "parentLayerId": -1,
   "defaultVisibility": true,
   "subLayerIds": null,
   "minScale": 0,
   "maxScale": 0,
   "type": "Feature Layer",
   "geometryType": "esriGeometryPolygon"
  },
  {
   "id": 7,
   "name": "S0_DTM2_hs.tif",
   "parentLayerId": -1,
   "defaultVisibility": true,
   "subLayerIds": null,
   "minScale": 41000,
   "maxScale": 0,
   "type": "Raster Layer"
  },
  {
   "id": 8,
   "name": "S0_DTM2_hsn.tif",
   "parentLayerId": -1,
   "defaultVisibility": true,
   "subLayerIds": null,
   "minScale": 41000,
   "maxScale": 0,
   "type": "Raster Layer"
  },
  {
   "id": 9,
   "name": "S0_DTM2_hsw.tif",
   "parentLayerId": -1,
   "defaultVisibility": true,
   "subLayerIds": null,
   "minScale": 41000,
   "maxScale": 0,
   "type": "Raster Layer"
  },
  {
   "id": 10,
   "name": "S0_DTM2.tif",
   "parentLayerId": -1,
   "defaultVisibility": true,
   "subLayerIds": null,
   "minScale": 41000,
   "maxScale": 0,
   "type": "Raster Layer"
  },
  {
   "id": 11,
   "name": "S0_DTM5_hs.tif",
   "parentLayerId": -1,
   "defaultVisibility": true,
   "subLayerIds": null,
   "minScale": 41000,
   "maxScale": 0,
   "type": "Raster Layer"
  },
  {
   "id": 12,
   "name": "S0_DTM5_hsn.tif",
   "parentLayerId": -1,
   "defaultVisibility": true,
   "subLayerIds": null,
   "minScale": 41000,
   "maxScale": 0,
   "type": "Raster Layer"
  },
  {
   "id": 13,
   "name": "S0_DTM5_hsw.tif",
   "parentLayerId": -1,
   "defaultVisibility": true,
   "subLayerIds": null,
   "minScale": 41000,
   "maxScale": 0,
   "type": "Raster Layer"
  },
  {
   "id": 14,
   "name": "S0_DTM5.tif",
   "parentLayerId": -1,
   "defaultVisibility": true,
   "subLayerIds": null,
   "minScale": 41000,
   "maxScale": 0,
   "type": "Raster Layer"
  },
  {
   "id": 15,
   "name": "S0_DTM20_hs.tif",
   "parentLayerId": -1,
   "defaultVisibility": true,
   "subLayerIds": null,
   "minScale": 0,
   "maxScale": 41000,
   "type": "Raster Layer"
  },
  {
   "id": 16,
   "name": "S0_DTM20_hsn.tif",
   "parentLayerId": -1,
   "defaultVisibility": true,
   "subLayerIds": null,
   "minScale": 0,
   "maxScale": 41000,
   "type": "Raster Layer"
  },
  {
   "id": 17,
   "name": "S0_DTM20_hsw.tif",
   "parentLayerId": -1,
   "defaultVisibility": true,
   "subLayerIds": null,
   "minScale": 0,
   "maxScale": 41000,
   "type": "Raster Layer"
  },
  {
   "id": 18,
   "name": "S0_DTM20.tif",
   "parentLayerId": -1,
   "defaultVisibility": true,
   "subLayerIds": null,
   "minScale": 0,
   "maxScale": 41000,
   "type": "Raster Layer"
  },
  {
   "id": 19,
   "name": "S100_Land_f",
   "parentLayerId": -1,
   "defaultVisibility": true,
   "subLayerIds": null,
   "minScale": 0,
   "maxScale": 0,
   "type": "Feature Layer",
   "geometryType": "esriGeometryPolygon"
  }
 ],
 "tables": [],
 "spatialReference": {
  "wkid": 25833,
  "latestWkid": 25833
 },
 "singleFusedMapCache": true,
 "tileInfo": {
  "rows": 256,
  "cols": 256,
  "dpi": 96,
  "format": "MIXED",
  "compressionQuality": 90,
  "origin": {
   "x": -5120900,
   "y": 9998100
  },
  "spatialReference": {
   "wkid": 25833,
   "latestWkid": 25833
  },
  "lods": [
   {
    "level": 0,
    "resolution": 1354.6693760054188,
    "scale": 5120000
   },
   {
    "level": 1,
    "resolution": 677.3346880027094,
    "scale": 2560000
   },
   {
    "level": 2,
    "resolution": 338.6673440013547,
    "scale": 1280000
   },
   {
    "level": 3,
    "resolution": 169.33367200067735,
    "scale": 640000
   },
   {
    "level": 4,
    "resolution": 84.66683600033868,
    "scale": 320000
   },
   {
    "level": 5,
    "resolution": 42.33341800016934,
    "scale": 160000
   },
   {
    "level": 6,
    "resolution": 21.16670900008467,
    "scale": 80000
   },
   {
    "level": 7,
    "resolution": 10.583354500042335,
    "scale": 40000
   },
   {
    "level": 8,
    "resolution": 5.291677250021167,
    "scale": 20000
   },
   {
    "level": 9,
    "resolution": 2.6458386250105836,
    "scale": 10000
   },
   {
    "level": 10,
    "resolution": 1.3229193125052918,
    "scale": 5000
   },
   {
    "level": 11,
    "resolution": 0.6614596562526459,
    "scale": 2500
   },
   {
    "level": 12,
    "resolution": 0.33072982812632296,
    "scale": 1250
   },
   {
    "level": 13,
    "resolution": 0.16536491406316148,
    "scale": 625
   }
  ]
 },
 "initialExtent": {
  "xmin": -91159.87557985832,
  "ymin": 8559116.54120778,
  "xmax": 1339370.9854818638,
  "ymax": 9084728.259097882,
  "spatialReference": {
   "wkid": 25833,
   "latestWkid": 25833
  }
 },
 "fullExtent": {
  "xmin": 369976.3899510037,
  "ymin": 8221306.5400000075,
  "xmax": 878234.7199510018,
  "ymax": 9010718.770000005,
  "spatialReference": {
   "wkid": 25833,
   "latestWkid": 25833
  }
 },
 "minScale": 5120000,
 "maxScale": 2500,
 "units": "esriMeters",
 "supportedImageFormatTypes": "PNG32,PNG24,PNG,JPG,DIB,TIFF,EMF,PS,PDF,GIF,SVG,SVGZ,BMP",
 "documentInfo": {
  "Title": "NP_EMODnet_SK_TerrengFjellskygge_Svalbard_WMTS_25833",
  "Author": "Norwegian Polar Institute",
  "Comments": "Terrain visualisation of Svalbard land and ocean, hillshade version. Land visualisation based on Norwegian Polar Institute (NPI) data. Depth visualisation based on publicly available bathymetry data from the Norwegian Mapping Authority (NMA) and the International Bathymetric Chart of the Arctic Ocean (IBCAO), version 4.",
  "Subject": "Terrain visualisation of Svalbard land and ocean, hillshade version.",
  "Category": "",
  "AntialiasingMode": "None",
  "TextAntialiasingMode": "None",
  "Keywords": "terrain"
 },
 "capabilities": "Map",
 "supportedQueryFormats": "JSON, geoJSON",
 "exportTilesAllowed": false,
 "referenceScale": 0,
 "supportsDatumTransformation": true,
 "maxRecordCount": 1000,
 "maxImageHeight": 4096,
 "maxImageWidth": 4096,
 "supportedExtensions": ""
}
