{
 "currentVersion": 10.81,
 "serviceDescription": "",
 "mapName": "Layers",
 "description": "",
 "copyrightText": "",
 "supportsDynamicLayers": false,
 "layers": [
  {
   "id": 0,
   "name": "V0_Bakgrunn_f",
   "parentLayerId": -1,
   "defaultVisibility": true,
   "subLayerIds": null,
   "minScale": 0,
   "maxScale": 0,
   "type": "Feature Layer",
   "geometryType": "esriGeometryPolygon"
  },
  {
   "id": 1,
   "name": "V10m_Byer_p",
   "parentLayerId": -1,
   "defaultVisibility": true,
   "subLayerIds": null,
   "minScale": 2560000,
   "maxScale": 0,
   "type": "Feature Layer",
   "geometryType": "esriGeometryPoint"
  },
  {
   "id": 2,
   "name": "V10m_Byer_p",
   "parentLayerId": -1,
   "defaultVisibility": true,
   "subLayerIds": null,
   "minScale": 5120000,
   "maxScale": 2560001,
   "type": "Feature Layer",
   "geometryType": "esriGeometryPoint"
  },
  {
   "id": 3,
   "name": "V0_Gradnett_30gr_53032",
   "parentLayerId": -1,
   "defaultVisibility": true,
   "subLayerIds": null,
   "minScale": 327680000,
   "maxScale": 0,
   "type": "Feature Layer",
   "geometryType": "esriGeometryPolyline"
  },
  {
   "id": 4,
   "name": "V10m_Riksgrenser_l",
   "parentLayerId": -1,
   "defaultVisibility": true,
   "subLayerIds": null,
   "minScale": 81920000,
   "maxScale": 0,
   "type": "Feature Layer",
   "geometryType": "esriGeometryPolyline"
  },
  {
   "id": 5,
   "name": "V10m_IsbremmerAntarktis_f",
   "parentLayerId": -1,
   "defaultVisibility": true,
   "subLayerIds": null,
   "minScale": 0,
   "maxScale": 0,
   "type": "Feature Layer",
   "geometryType": "esriGeometryPolygon"
  },
  {
   "id": 6,
   "name": "V10m_Vann_f",
   "parentLayerId": -1,
   "defaultVisibility": true,
   "subLayerIds": null,
   "minScale": 20480000,
   "maxScale": 0,
   "type": "Feature Layer",
   "geometryType": "esriGeometryPolygon"
  },
  {
   "id": 7,
   "name": "V10m_Isbreer_f",
   "parentLayerId": -1,
   "defaultVisibility": true,
   "subLayerIds": null,
   "minScale": 0,
   "maxScale": 0,
   "type": "Feature Layer",
   "geometryType": "esriGeometryPolygon"
  },
  {
   "id": 8,
   "name": "V10m_MindreƘyer_f",
   "parentLayerId": -1,
   "defaultVisibility": true,
   "subLayerIds": null,
   "minScale": 0,
   "maxScale": 0,
   "type": "Feature Layer",
   "geometryType": "esriGeometryPolygon"
  },
  {
   "id": 9,
   "name": "V10m_Land_f",
   "parentLayerId": -1,
   "defaultVisibility": true,
   "subLayerIds": null,
   "minScale": 0,
   "maxScale": 0,
   "type": "Feature Layer",
   "geometryType": "esriGeometryPolygon"
  },
  {
   "id": 10,
   "name": "V0_Bakgrunn_f",
   "parentLayerId": -1,
   "defaultVisibility": true,
   "subLayerIds": null,
   "minScale": 0,
   "maxScale": 0,
   "type": "Feature Layer",
   "geometryType": "esriGeometryPolygon"
  }
 ],
 "tables": [],
 "spatialReference": {
  "wkid": 53032,
  "latestWkid": 53032
 },
 "singleFusedMapCache": true,
 "tileInfo": {
  "rows": 256,
  "cols": 256,
  "dpi": 96,
  "format": "MIXED",
  "compressionQuality": 90,
  "origin": {
   "x": -2.003750834E7,
   "y": 2.003750834E7
  },
  "spatialReference": {
   "wkid": 53032,
   "latestWkid": 53032
  },
  "lods": [
   {
    "level": 0,
    "resolution": 156543.3470490962,
    "scale": 5.91658711039E8
   },
   {
    "level": 1,
    "resolution": 78271.67352468039,
    "scale": 2.9582935552E8
   },
   {
    "level": 2,
    "resolution": 39135.836762340194,
    "scale": 1.4791467776E8
   },
   {
    "level": 3,
    "resolution": 19567.918381143638,
    "scale": 7.39573388799E7
   },
   {
    "level": 4,
    "resolution": 9783.959190558591,
    "scale": 3.69786694399E7
   },
   {
    "level": 5,
    "resolution": 4891.979595292524,
    "scale": 1.848933472E7
   },
   {
    "level": 6,
    "resolution": 2445.9897976409707,
    "scale": 9244667.35998
   },
   {
    "level": 7,
    "resolution": 1222.9948988204853,
    "scale": 4622333.67999
   },
   {
    "level": 8,
    "resolution": 611.4974494115655,
    "scale": 2311166.84
   },
   {
    "level": 9,
    "resolution": 305.74872470578276,
    "scale": 1155583.42
   },
   {
    "level": 10,
    "resolution": 152.87436235262678,
    "scale": 577791.709999
   }
  ]
 },
 "initialExtent": {
  "xmin": -2.2303276606553216E7,
  "ymin": -1083735.5008043349,
  "xmax": 2.3473710947421897E7,
  "ymax": 1.5735839471678946E7,
  "spatialReference": {
   "wkid": 53032,
   "latestWkid": 53032
  }
 },
 "fullExtent": {
  "xmin": -1.9987288064359363E7,
  "ymin": -1.9987288064359363E7,
  "xmax": 1.998728806435937E7,
  "ymax": 1.9987288064359378E7,
  "spatialReference": {
   "wkid": 53032,
   "latestWkid": 53032
  }
 },
 "minScale": 5.91658711039E8,
 "maxScale": 577791.709999,
 "units": "esriMeters",
 "supportedImageFormatTypes": "PNG32,PNG24,PNG,JPG,DIB,TIFF,EMF,PS,PDF,GIF,SVG,SVGZ,BMP",
 "documentInfo": {
  "Title": "",
  "Author": "",
  "Comments": "",
  "Subject": "",
  "Category": "",
  "AntialiasingMode": "None",
  "TextAntialiasingMode": "None",
  "Keywords": ""
 },
 "capabilities": "Map",
 "supportedQueryFormats": "JSON, geoJSON",
 "exportTilesAllowed": false,
 "referenceScale": 0,
 "datumTransformations": [
  {
   "geoTransforms": [
    {
     "wkid": 108001,
     "latestWkid": 1241,
     "transformForward": true,
     "name": "NAD_1927_To_NAD_1983_NADCON"
    }
   ]
  },
  {
   "geoTransforms": [
    {
     "wkid": 108001,
     "latestWkid": 1241,
     "transformForward": false,
     "name": "NAD_1927_To_NAD_1983_NADCON"
    }
   ]
  }
 ],
 "supportsDatumTransformation": true,
 "maxRecordCount": 1000,
 "maxImageHeight": 4096,
 "maxImageWidth": 4096,
 "supportedExtensions": ""
}
