View In:
ArcGIS JavaScript
ArcGIS Online Map Viewer
ArcGIS Earth
ArcMap
ArcGIS Pro
View Footprint In:
ArcGIS Online Map Viewer
Service Description: Satellittbildemosaikk av Copernicus Sentinel-data, utarbeidet av Norsk Polarinstitutt. Lisensiert under CC BY 4.0. For en mindre forvrengende kartprojeksjon, bruk NP_Satellitt_Svalbard_WMTS_25833. / Satellite imagery mosaic of Copernicus Sentinel data, prepared by the Norwegian Polar Institute. Licensed under CC BY 4.0. For a less distorting map projection, use NP_Satellitt_Svalbard_WMTS_25833.
Map Name: NP_Satellitt_Svalbard_WMTS_3857
Legend
All Layers and Tables
Layers:
Description:
Copyright Text: Norsk Polarinstitutt / Norwegian Polar Institute. Copernicus Sentinel data
Spatial Reference:
102100
(3857)
Single Fused Map Cache: true
Tile Info:
- Height: 256
- Width: 256
- DPI: 96
-
Levels of Detail: 18
-
Level ID: 0
[ Start Tile, End Tile ]
- Resolution: 156543.03392800014
- Scale: 5.91657527591555E8
-
Level ID: 1
[ Start Tile, End Tile ]
- Resolution: 78271.51696399994
- Scale: 2.95828763795777E8
-
Level ID: 2
[ Start Tile, End Tile ]
- Resolution: 39135.75848200009
- Scale: 1.47914381897889E8
-
Level ID: 3
[ Start Tile, End Tile ]
- Resolution: 19567.87924099992
- Scale: 7.3957190948944E7
-
Level ID: 4
[ Start Tile, End Tile ]
- Resolution: 9783.93962049996
- Scale: 3.6978595474472E7
-
Level ID: 5
[ Start Tile, End Tile ]
- Resolution: 4891.96981024998
- Scale: 1.8489297737236E7
- Format: MIXED
- Compression Quality: 90.0
- Origin: X: -2.0037508342787E7
Y: 2.0037508342787E7
- Spatial Reference: 102100
(3857)
Initial Extent:
XMin: 651871.9155804401
YMin: 1.4227231085449288E7
XMax: 4192519.1124676
YMax: 1.552815069945707E7
Spatial Reference: 102100
Full Extent:
XMin: 831255.51402402
YMin: 1.2409662280780027E7
XMax: 4013135.51402402
YMax: 1.6326442280780027E7
Spatial Reference: 102100
Units: esriMeters
Supported Image Format Types: PNG32,PNG24,PNG,JPG,DIB,TIFF,EMF,PS,PDF,GIF,SVG,SVGZ,BMP
Document Info:
Title: NP_Satellitt_Svalbard_WMTS_3857
Author:
Comments: Satellittbildemosaikk av Copernicus Sentinel-data, utarbeidet av Norsk Polarinstitutt. Lisensiert under CC BY 4.0. For en mindre forvrengende kartprojeksjon, bruk NP_Satellitt_Svalbard_WMTS_25833. / Satellite imagery mosaic of Copernicus Sentinel data, prepared by the Norwegian Polar Institute. Licensed under CC BY 4.0. For a less distorting map projection, use NP_Satellitt_Svalbard_WMTS_25833.
Subject: Mosaikk av / mosaic of Copernicus Sentinel data.
Category:
Keywords: Svalbard, satellite image, Copernicus Sentinel data
AntialiasingMode: None
TextAntialiasingMode: None
Supports Dynamic Layers: false
Resampling: false
MaxRecordCount: 1000
MaxImageHeight: 4096
MaxImageWidth: 4096
Supported Query Formats: JSON, geoJSON
Supports Query Data Elements:
Min Scale: 5.91657527591555E8
Max Scale: 18055.954822
Supports Datum Transformation: true
Child Resources:
Info
Supported Operations:
Export Map
Return Updates